BEGIN:VCALENDAR
VERSION:2.0
PRODID:-//wp-events-plugin.com//7.2.3.1//EN
TZID:Europe/Madrid
X-WR-TIMEZONE:Europe/Madrid
BEGIN:VEVENT
UID:1056@carrerasocr.com
DTSTART;TZID=Europe/Madrid:20260627T090000
DTEND;TZID=Europe/Madrid:20260627T150000
DTSTAMP:20260218T164159Z
URL:https://carrerasocr.com/events/zufarian-race-2026/
SUMMARY:Zufarian Race 2026
DESCRIPTION:															\n		Enlace a la web de la  Inscripción		\n			
CATEGORIES:Aragón,Junio 2026,OCR,OCR España,Zufarian Race
LOCATION:Zuera\, Calle Antonio Machado\, 18\, Zuera\, Zaragoza\, Aragón\, 
 España
X-APPLE-STRUCTURED-LOCATION;VALUE=URI;X-ADDRESS=Calle Antonio Machado\, 18\
 , Zuera\, Zaragoza\, Aragón\, España;X-APPLE-RADIUS=100;X-TITLE=Zuera:ge
 o:0,0
END:VEVENT
BEGIN:VTIMEZONE
TZID:Europe/Madrid
X-LIC-LOCATION:Europe/Madrid
BEGIN:DAYLIGHT
DTSTART:20260329T030000
TZOFFSETFROM:+0100
TZOFFSETTO:+0200
TZNAME:CEST
END:DAYLIGHT
END:VTIMEZONE
END:VCALENDAR