BEGIN:VCALENDAR
VERSION:2.0
PRODID:-//wp-events-plugin.com//7.2.3.1//EN
TZID:Europe/Madrid
X-WR-TIMEZONE:Europe/Madrid
BEGIN:VEVENT
UID:1087@carrerasocr.com
DTSTART;TZID=Europe/Madrid:20260912T090000
DTEND;TZID=Europe/Madrid:20260912T170000
DTSTAMP:20260411T114428Z
URL:https://carrerasocr.com/events/victoria-race-nanclares-de-la-oca-2026/
SUMMARY:Victoria Race Nanclares de la Oca 2026
DESCRIPTION:															\n		Enlace a la web de la  Inscripción		\n			
CATEGORIES:España,OCR,OCR España,Pais Vasco,Septiembre 2026
LOCATION:Nanclares de la Oca\, Nanclares de la Oca\, Nanclares de la Oca\, 
 Álava\, País Vasco\, España
X-APPLE-STRUCTURED-LOCATION;VALUE=URI;X-ADDRESS=Nanclares de la Oca\, Nancl
 ares de la Oca\, Álava\, País Vasco\, España;X-APPLE-RADIUS=100;X-TITLE
 =Nanclares de la Oca:geo:0,0
END:VEVENT
BEGIN:VTIMEZONE
TZID:Europe/Madrid
X-LIC-LOCATION:Europe/Madrid
BEGIN:DAYLIGHT
DTSTART:20260329T030000
TZOFFSETFROM:+0100
TZOFFSETTO:+0200
TZNAME:CEST
END:DAYLIGHT
END:VTIMEZONE
END:VCALENDAR