BEGIN:VCALENDAR
VERSION:2.0
PRODID:-//wp-events-plugin.com//7.2.3.1//EN
TZID:Europe/Madrid
X-WR-TIMEZONE:Europe/Madrid
BEGIN:VEVENT
UID:107@carrerasocr.com
DTSTART;TZID=Europe/Madrid:20220205T090000
DTEND;TZID=Europe/Madrid:20220205T150000
DTSTAMP:20220104T123721Z
URL:https://carrerasocr.com/events/vi-gijon-ocr-2022/
SUMMARY:VI GIJON OCR-2022
DESCRIPTION:															\n		Enlace a la web de la  Inscripción		\n			\
 n			Quieres ayudar a mantener la página?\, reserva tu alojamiento desde a
 qui		\n		 [bdotcom_bm bannerid="2335"]
CATEGORIES:GIJON OCR
LOCATION:Gijón\, Gijón\, Gijón\, Asturias\, Asturias\, España
X-APPLE-STRUCTURED-LOCATION;VALUE=URI;X-ADDRESS=Gijón\, Gijón\, Asturias\
 , Asturias\, España;X-APPLE-RADIUS=100;X-TITLE=Gijón:geo:0,0
END:VEVENT
BEGIN:VTIMEZONE
TZID:Europe/Madrid
X-LIC-LOCATION:Europe/Madrid
BEGIN:STANDARD
DTSTART:20211031T020000
TZOFFSETFROM:+0200
TZOFFSETTO:+0100
TZNAME:CET
END:STANDARD
END:VTIMEZONE
END:VCALENDAR