BEGIN:VCALENDAR
VERSION:2.0
PRODID:-//wp-events-plugin.com//7.2.3.1//EN
TZID:Europe/Madrid
X-WR-TIMEZONE:Europe/Madrid
BEGIN:VEVENT
UID:542@carrerasocr.com
DTSTART;TZID=Europe/Madrid:20240901T090000
DTEND;TZID=Europe/Madrid:20240901T170000
DTSTAMP:20240722T141435Z
URL:https://carrerasocr.com/events/uros-race-2024/
SUMMARY:Uros Race 2024
DESCRIPTION:\n\nEnlace a la web de la  Inscripción\n\n\nQuieres ayudar a 
 mantener la página?\, reserva tu alojamiento desde aqui\n&nbsp\;
CATEGORIES:AOCO,España,Galicia,Liga AOCO 2024,North Finals,OCR,OCR
 España,Septiembre 2024
LOCATION:Toén\, Toén\, Toén\, Ourense\, Galicia\, España
X-APPLE-STRUCTURED-LOCATION;VALUE=URI;X-ADDRESS=Toén\, Toén\, Ourense\, G
 alicia\, España;X-APPLE-RADIUS=100;X-TITLE=Toén:geo:0,0
END:VEVENT
BEGIN:VTIMEZONE
TZID:Europe/Madrid
X-LIC-LOCATION:Europe/Madrid
BEGIN:DAYLIGHT
DTSTART:20240331T030000
TZOFFSETFROM:+0100
TZOFFSETTO:+0200
TZNAME:CEST
END:DAYLIGHT
END:VTIMEZONE
END:VCALENDAR