BEGIN:VCALENDAR
VERSION:2.0
PRODID:-//wp-events-plugin.com//7.2.3.1//EN
TZID:Europe/Madrid
X-WR-TIMEZONE:Europe/Madrid
BEGIN:VEVENT
UID:296@carrerasocr.com
DTSTART;TZID=Europe/Madrid:20231125T090000
DTEND;TZID=Europe/Madrid:20231126T180000
DTSTAMP:20231023T222043Z
URL:https://carrerasocr.com/events/spartan-tenerife-trifecta-weekend-2023/
SUMMARY:Spartan Tenerife Trifecta weekend 2023
DESCRIPTION:														\n																										\n																			
 							\n																										\n																										\n									
 																	\n																										\n																										\
 n			CÓDIGO DTO 20%:ES-BA-6676436		\n		Enlace a la web de la  Inscripció
 n		\n			\n			Quieres ayudar a mantener la página?\, reserva tu alojamient
 o desde aqui		\n			\n    \n        Booking.com\n
CATEGORIES:Beast,España,Hurricane Heat 12Hr,Hurricane Heat 4Hr,Islas
 Canarias,Noviembre 2023,OCR,OCR España,Spartan Kids,Spartan Nacional
 Series 2023,Spartan National Series,Sprint,Super,Trifecta,Ultra
LOCATION:Tenerife\, Puerto de la Cruz\, Puerto de la Cruz\, Tenerife\, Espa
 ña
X-APPLE-STRUCTURED-LOCATION;VALUE=URI;X-ADDRESS=Puerto de la Cruz\, Puerto 
 de la Cruz\, Tenerife\, España;X-APPLE-RADIUS=100;X-TITLE=Tenerife:geo:0,
 0
END:VEVENT
BEGIN:VTIMEZONE
TZID:Europe/Madrid
X-LIC-LOCATION:Europe/Madrid
BEGIN:STANDARD
DTSTART:20231029T020000
TZOFFSETFROM:+0200
TZOFFSETTO:+0100
TZNAME:CET
END:STANDARD
END:VTIMEZONE
END:VCALENDAR