BEGIN:VCALENDAR
VERSION:2.0
PRODID:-//wp-events-plugin.com//7.2.3.1//EN
TZID:Europe/Madrid
X-WR-TIMEZONE:Europe/Madrid
BEGIN:VEVENT
UID:19@carrerasocr.com
DTSTART;TZID=Europe/Madrid:20211023T090000
DTEND;TZID=Europe/Madrid:20211023T140000
DTSTAMP:20210515T144558Z
URL:https://carrerasocr.com/events/spartan-super-mallorca/
SUMMARY:Spartan Super Mallorca
DESCRIPTION:															\n																														\n		Enlace a la 
 web de la  Inscripción		\n			
CATEGORIES:OCR,Spartan,Super
LOCATION:Mallorca\, Mallorca\, Mallorca\, Mallorca\, España
X-APPLE-STRUCTURED-LOCATION;VALUE=URI;X-ADDRESS=Mallorca\, Mallorca\, Mallo
 rca\, España;X-APPLE-RADIUS=100;X-TITLE=Mallorca:geo:0,0
END:VEVENT
BEGIN:VTIMEZONE
TZID:Europe/Madrid
X-LIC-LOCATION:Europe/Madrid
BEGIN:DAYLIGHT
DTSTART:20210328T030000
TZOFFSETFROM:+0100
TZOFFSETTO:+0200
TZNAME:CEST
END:DAYLIGHT
END:VTIMEZONE
END:VCALENDAR