BEGIN:VCALENDAR
VERSION:2.0
PRODID:-//wp-events-plugin.com//7.2.3.1//EN
TZID:Europe/Madrid
X-WR-TIMEZONE:Europe/Madrid
BEGIN:VEVENT
UID:1076@carrerasocr.com
DTSTART;TZID=Europe/Madrid:20261010T090000
DTEND;TZID=Europe/Madrid:20261010T190000
DTSTAMP:20260405T174808Z
URL:https://carrerasocr.com/events/spartan-sprint-100m-world-championship-
 2026/
SUMMARY:Spartan Sprint & 100m World Championship 2026
DESCRIPTION:															\n																														\n		Enlace a la 
 web de la  InscripciónRedes sociales		\n			
CATEGORIES:Croacia,OCR,OCR España,Octubre 2026,Spartan,Sprint
LOCATION:Hvar\, Hvar\, Hvar\, Hvar\, Croacia
X-APPLE-STRUCTURED-LOCATION;VALUE=URI;X-ADDRESS=Hvar\, Hvar\, Hvar\, Croaci
 a;X-APPLE-RADIUS=100;X-TITLE=Hvar:geo:0,0
END:VEVENT
BEGIN:VTIMEZONE
TZID:Europe/Madrid
X-LIC-LOCATION:Europe/Madrid
BEGIN:DAYLIGHT
DTSTART:20260329T030000
TZOFFSETFROM:+0100
TZOFFSETTO:+0200
TZNAME:CEST
END:DAYLIGHT
END:VTIMEZONE
END:VCALENDAR