BEGIN:VCALENDAR
VERSION:2.0
PRODID:-//wp-events-plugin.com//7.2.3.1//EN
TZID:Europe/Madrid
X-WR-TIMEZONE:Europe/Madrid
BEGIN:VEVENT
UID:243@carrerasocr.com
DTSTART;TZID=Europe/Madrid:20221104T090000
DTEND;TZID=Europe/Madrid:20221106T170000
DTSTAMP:20220724T161513Z
URL:https://carrerasocr.com/events/spartan-sparta-trifecta-world-champions
 hip-2022/
SUMMARY:Spartan Sparta Trifecta World Championship 2022
DESCRIPTION:/*! elementor - v3.6.7 - 03-07-2022 */\n.elementor-widget-image
 {text-align:center}.elementor-widget-image a{display:inline-block}.element
 or-widget-image a img[src$=".svg"]{width:48px}.elementor-widget-image img{
 vertical-align:middle\;display:inline-block}																											\n	
 																													\n																														\n											
 																			\n																														\n																					
 									\n		Enlace a la web de la  Inscripción		\n			/*! elementor - v3
 .6.7 - 03-07-2022 */\n.elementor-widget-google_maps .elementor-widget-cont
 ainer{overflow:hidden}.elementor-widget-google_maps iframe{height:300px}		
 \n			\n			/*! elementor - v3.6.7 - 03-07-2022 */\n.elementor-heading-title
 {padding:0\;margin:0\;line-height:1}.elementor-widget-heading .elementor-h
 eading-title[class*=elementor-size-]>a{color:inherit\;font-size:inherit\;l
 ine-height:inherit}.elementor-widget-heading .elementor-heading-title.elem
 entor-size-small{font-size:15px}.elementor-widget-heading .elementor-headi
 ng-title.elementor-size-medium{font-size:19px}.elementor-widget-heading .e
 lementor-heading-title.elementor-size-large{font-size:29px}.elementor-widg
 et-heading .elementor-heading-title.elementor-size-xl{font-size:39px}.elem
 entor-widget-heading .elementor-heading-title.elementor-size-xxl{font-size
 :59px}Quieres ayudar a mantener la página?\, reserva tu alojamiento desde
  aqui		\n			\n    \n        Booking.com\n
CATEGORIES:Beast,Grecia,OCR,OCR Europa,Spartan,Spartan
 Kids,Sprint,Super,Trifecta
END:VEVENT
BEGIN:VTIMEZONE
TZID:Europe/Madrid
X-LIC-LOCATION:Europe/Madrid
BEGIN:STANDARD
DTSTART:20221030T020000
TZOFFSETFROM:+0200
TZOFFSETTO:+0100
TZNAME:CET
END:STANDARD
END:VTIMEZONE
END:VCALENDAR