BEGIN:VCALENDAR
VERSION:2.0
PRODID:-//wp-events-plugin.com//7.2.3.1//EN
TZID:Europe/Madrid
X-WR-TIMEZONE:Europe/Madrid
BEGIN:VEVENT
UID:908@carrerasocr.com
DTSTART;TZID=Europe/Madrid:20261024T090000
DTEND;TZID=Europe/Madrid:20261025T200000
DTSTAMP:20251102T175906Z
URL:https://carrerasocr.com/events/spartan-deka-guadalajara-2026/
SUMMARY:Spartan Deka Guadalajara 2026
DESCRIPTION:\n\nEnlace a la web de la  Inscripción\n\nRedes Sociales\n\n\
 nQuieres ayudar a mantener la página?\, reserva tu alojamiento desde aqui
 \n&nbsp\;
CATEGORIES:Castilla la Mancha,Deka,Deka
 Strong,Dekafit,Dekamile,España,Fitness,OCR,OCR España,Octubre
 2026,Spartan
LOCATION:Palacio multiusos Guadalajara\, Palacio multiusos Guadalajara\, Gu
 adalajara\, Guadalajara\, Castilla La Mancha\, España
X-APPLE-STRUCTURED-LOCATION;VALUE=URI;X-ADDRESS=Palacio multiusos Guadalaja
 ra\, Guadalajara\, Guadalajara\, Castilla La Mancha\, España;X-APPLE-RADI
 US=100;X-TITLE=Palacio multiusos Guadalajara:geo:0,0
END:VEVENT
BEGIN:VTIMEZONE
TZID:Europe/Madrid
X-LIC-LOCATION:Europe/Madrid
BEGIN:DAYLIGHT
DTSTART:20260329T030000
TZOFFSETFROM:+0100
TZOFFSETTO:+0200
TZNAME:CEST
END:DAYLIGHT
BEGIN:STANDARD
DTSTART:20261025T020000
TZOFFSETFROM:+0200
TZOFFSETTO:+0100
TZNAME:CET
END:STANDARD
END:VTIMEZONE
END:VCALENDAR