BEGIN:VCALENDAR
VERSION:2.0
PRODID:-//wp-events-plugin.com//7.2.3.1//EN
TZID:Europe/Madrid
X-WR-TIMEZONE:Europe/Madrid
BEGIN:VEVENT
UID:655@carrerasocr.com
DTSTART;TZID=Europe/Madrid:20250301T090000
DTEND;TZID=Europe/Madrid:20250301T170000
DTSTAMP:20241028T142730Z
URL:https://carrerasocr.com/events/skull-race-2025/
SUMMARY:Skull Race 2025
DESCRIPTION:													\n		Enlace a la web de la  InscripciónRedes soci
 ales		\n			
CATEGORIES:Andalucía,España,Marzo 2025,OCR,OCR España,Skull Race
LOCATION:Tabernas\, Tabernas\, Tabernas\, Almeria\, Andalucía\, España
X-APPLE-STRUCTURED-LOCATION;VALUE=URI;X-ADDRESS=Tabernas\, Tabernas\, Almer
 ia\, Andalucía\, España;X-APPLE-RADIUS=100;X-TITLE=Tabernas:geo:0,0
END:VEVENT
BEGIN:VTIMEZONE
TZID:Europe/Madrid
X-LIC-LOCATION:Europe/Madrid
BEGIN:STANDARD
DTSTART:20241027T020000
TZOFFSETFROM:+0200
TZOFFSETTO:+0100
TZNAME:CET
END:STANDARD
END:VTIMEZONE
END:VCALENDAR