BEGIN:VCALENDAR
VERSION:2.0
PRODID:-//wp-events-plugin.com//7.2.3.1//EN
TZID:Europe/Madrid
X-WR-TIMEZONE:Europe/Madrid
BEGIN:VEVENT
UID:690@carrerasocr.com
DTSTART;TZID=Europe/Madrid:20250601T090000
DTEND;TZID=Europe/Madrid:20250601T170000
DTSTAMP:20250126T204007Z
URL:https://carrerasocr.com/events/shark-race-2025/
SUMMARY:Shark Race 2025
DESCRIPTION:													\n		Enlace a la web de la  Inscripción		\n			
CATEGORIES:Andalucía,España,Junio 2025,Liga Sur,OCR,OCR España,Shark
 Race
LOCATION:Rota\, Rota\, Rota\, Cádiz\, Andalucía\, España
X-APPLE-STRUCTURED-LOCATION;VALUE=URI;X-ADDRESS=Rota\, Rota\, Cádiz\, Anda
 lucía\, España;X-APPLE-RADIUS=100;X-TITLE=Rota:geo:0,0
END:VEVENT
BEGIN:VTIMEZONE
TZID:Europe/Madrid
X-LIC-LOCATION:Europe/Madrid
BEGIN:DAYLIGHT
DTSTART:20250330T030000
TZOFFSETFROM:+0100
TZOFFSETTO:+0200
TZNAME:CEST
END:DAYLIGHT
END:VTIMEZONE
END:VCALENDAR