BEGIN:VCALENDAR
VERSION:2.0
PRODID:-//wp-events-plugin.com//7.2.3.1//EN
TZID:Europe/Madrid
X-WR-TIMEZONE:Europe/Madrid
BEGIN:VEVENT
UID:1088@carrerasocr.com
DTSTART;TZID=Europe/Madrid:20260919T090000
DTEND;TZID=Europe/Madrid:20260919T170000
DTSTAMP:20260411T114751Z
URL:https://carrerasocr.com/events/salvaje-race-2026/
SUMMARY:Salvaje Race 2026
DESCRIPTION:															\n		 Enlace a la web de la  Inscripción		\n		
 	
CATEGORIES:Andalucía,España,Liga Sur,OCR,OCR España,Salvaje Race
LOCATION:San Fernando\, San Fernando\, San Fernando\, Cádiz\, Andalucía\,
  España
X-APPLE-STRUCTURED-LOCATION;VALUE=URI;X-ADDRESS=San Fernando\, San Fernando
 \, Cádiz\, Andalucía\, España;X-APPLE-RADIUS=100;X-TITLE=San Fernando:g
 eo:0,0
END:VEVENT
BEGIN:VTIMEZONE
TZID:Europe/Madrid
X-LIC-LOCATION:Europe/Madrid
BEGIN:DAYLIGHT
DTSTART:20260329T030000
TZOFFSETFROM:+0100
TZOFFSETTO:+0200
TZNAME:CEST
END:DAYLIGHT
END:VTIMEZONE
END:VCALENDAR