BEGIN:VCALENDAR
VERSION:2.0
PRODID:-//wp-events-plugin.com//7.2.3.1//EN
TZID:Europe/Madrid
X-WR-TIMEZONE:Europe/Madrid
BEGIN:VEVENT
UID:1020@carrerasocr.com
DTSTART;TZID=Europe/Madrid:20260530T090000
DTEND;TZID=Europe/Madrid:20260530T170000
DTSTAMP:20260120T074615Z
URL:https://carrerasocr.com/events/rural-warrior-tobarra-2026/
SUMMARY:Rural Warrior Tobarra 2026
DESCRIPTION:															\n		 Enlace a la web de la  InscripciónRedes 
 Sociales		\n			
CATEGORIES:Castilla la Mancha,Mayo 2026,OCR,OCR España,Rural Warrior
 Tobarra
LOCATION:Tobarra\, Tobarra\, Tobarra\, Albacete\, Castilla la Mancha\, Espa
 ña
X-APPLE-STRUCTURED-LOCATION;VALUE=URI;X-ADDRESS=Tobarra\, Tobarra\, Albacet
 e\, Castilla la Mancha\, España;X-APPLE-RADIUS=100;X-TITLE=Tobarra:geo:0,
 0
END:VEVENT
BEGIN:VTIMEZONE
TZID:Europe/Madrid
X-LIC-LOCATION:Europe/Madrid
BEGIN:DAYLIGHT
DTSTART:20260329T030000
TZOFFSETFROM:+0100
TZOFFSETTO:+0200
TZNAME:CEST
END:DAYLIGHT
END:VTIMEZONE
END:VCALENDAR