BEGIN:VCALENDAR
VERSION:2.0
PRODID:-//wp-events-plugin.com//7.2.3.1//EN
TZID:Europe/Madrid
X-WR-TIMEZONE:Europe/Madrid
BEGIN:VEVENT
UID:308@carrerasocr.com
DTSTART;TZID=Europe/Madrid:20230416T090000
DTEND;TZID=Europe/Madrid:20230416T170000
DTSTAMP:20221013T081908Z
URL:https://carrerasocr.com/events/quijote-xtreme-2023/
SUMMARY:Quijote Xtreme 2023
DESCRIPTION:															\n		Enlace a la web de la  Inscripción		\n			\
 n			Quieres ayudar a mantener la página?\, reserva tu alojamiento desde a
 qui		\n			\n    \n        Booking.com\n
CATEGORIES:Castilla la Mancha,OCR,OCR España,Quijote Xtreme
LOCATION:Abenojar\, Abenojar\, Abenojar\, Ciudad Real\, Castilla la mancha\
 , España
X-APPLE-STRUCTURED-LOCATION;VALUE=URI;X-ADDRESS=Abenojar\, Abenojar\, Ciuda
 d Real\, Castilla la mancha\, España;X-APPLE-RADIUS=100;X-TITLE=Abenojar:
 geo:0,0
END:VEVENT
BEGIN:VTIMEZONE
TZID:Europe/Madrid
X-LIC-LOCATION:Europe/Madrid
BEGIN:DAYLIGHT
DTSTART:20230326T030000
TZOFFSETFROM:+0100
TZOFFSETTO:+0200
TZNAME:CEST
END:DAYLIGHT
END:VTIMEZONE
END:VCALENDAR