BEGIN:VCALENDAR
VERSION:2.0
PRODID:-//wp-events-plugin.com//7.2.3.1//EN
TZID:Europe/Madrid
X-WR-TIMEZONE:Europe/Madrid
BEGIN:VEVENT
UID:1044@carrerasocr.com
DTSTART;TZID=Europe/Madrid:20260704T090000
DTEND;TZID=Europe/Madrid:20260704T170000
DTSTAMP:20260201T194507Z
URL:https://carrerasocr.com/events/nao-race-puerto-naos-2026/
SUMMARY:Nao Race Puerto Naos 2026
DESCRIPTION:															\n		 Enlace a la web de la  Inscripción		\n		
 	
CATEGORIES:Islas Canarias,Julio 2026,Liga OCR Canaria,Nao Race,OCR,OCR
 España
LOCATION:Puerto Naos\, Puerto Naos\, Puerto Naos\, Santa Cruz de Tenerife\,
  Islas Canarias\, España
X-APPLE-STRUCTURED-LOCATION;VALUE=URI;X-ADDRESS=Puerto Naos\, Puerto Naos\,
  Santa Cruz de Tenerife\, Islas Canarias\, España;X-APPLE-RADIUS=100;X-TI
 TLE=Puerto Naos:geo:0,0
END:VEVENT
BEGIN:VTIMEZONE
TZID:Europe/Madrid
X-LIC-LOCATION:Europe/Madrid
BEGIN:DAYLIGHT
DTSTART:20260329T030000
TZOFFSETFROM:+0100
TZOFFSETTO:+0200
TZNAME:CEST
END:DAYLIGHT
END:VTIMEZONE
END:VCALENDAR