BEGIN:VCALENDAR
VERSION:2.0
PRODID:-//wp-events-plugin.com//7.2.3.1//EN
TZID:Europe/Madrid
X-WR-TIMEZONE:Europe/Madrid
BEGIN:VEVENT
UID:794@carrerasocr.com
DTSTART;TZID=Europe/Madrid:20250823T090000
DTEND;TZID=Europe/Madrid:20250823T200000
DTSTAMP:20250427T145003Z
URL:https://carrerasocr.com/events/naiz-battle-2025/
SUMMARY:Naiz Battle 2025
DESCRIPTION:															\n		Enlace a la web de la  InscripciónRedes So
 ciales		\n			
CATEGORIES:Agosto 2025,España,Fitness,Hybrid,OCR,OCR España,Pais Vasco
LOCATION:Labastida\, Labastida\, Labastida\, Álaba\, País Vasco\, España
X-APPLE-STRUCTURED-LOCATION;VALUE=URI;X-ADDRESS=Labastida\, Labastida\, Ál
 aba\, País Vasco\, España;X-APPLE-RADIUS=100;X-TITLE=Labastida:geo:0,0
END:VEVENT
BEGIN:VTIMEZONE
TZID:Europe/Madrid
X-LIC-LOCATION:Europe/Madrid
BEGIN:DAYLIGHT
DTSTART:20250330T030000
TZOFFSETFROM:+0100
TZOFFSETTO:+0200
TZNAME:CEST
END:DAYLIGHT
END:VTIMEZONE
END:VCALENDAR