BEGIN:VCALENDAR
VERSION:2.0
PRODID:-//wp-events-plugin.com//7.2.3.1//EN
TZID:Europe/Madrid
X-WR-TIMEZONE:Europe/Madrid
BEGIN:VEVENT
UID:1046@carrerasocr.com
DTSTART;TZID=Europe/Madrid:20261017T090000
DTEND;TZID=Europe/Madrid:20261017T170000
DTSTAMP:20260201T194838Z
URL:https://carrerasocr.com/events/mencey-ocr-la-laguna-2026/
SUMMARY:Mencey OCR La Laguna 2026
DESCRIPTION:															\n		Enlace a la web de la  Inscripción		\n			
CATEGORIES:Islas Canarias,OCR,OCR España,OCR Mencey,Octubre 2026
LOCATION:La laguna\, La laguna\, La laguna\, Santa Cruz de Tenerife\, Islas
  Canarias\, España
X-APPLE-STRUCTURED-LOCATION;VALUE=URI;X-ADDRESS=La laguna\, La laguna\, San
 ta Cruz de Tenerife\, Islas Canarias\, España;X-APPLE-RADIUS=100;X-TITLE=
 La laguna:geo:0,0
END:VEVENT
BEGIN:VTIMEZONE
TZID:Europe/Madrid
X-LIC-LOCATION:Europe/Madrid
BEGIN:DAYLIGHT
DTSTART:20260329T030000
TZOFFSETFROM:+0100
TZOFFSETTO:+0200
TZNAME:CEST
END:DAYLIGHT
END:VTIMEZONE
END:VCALENDAR