BEGIN:VCALENDAR
VERSION:2.0
PRODID:-//wp-events-plugin.com//7.2.3.1//EN
TZID:Europe/Madrid
X-WR-TIMEZONE:Europe/Madrid
BEGIN:VEVENT
UID:31@carrerasocr.com
DTSTART;TZID=Europe/Madrid:20210905T090000
DTEND;TZID=Europe/Madrid:20210905T150000
DTSTAMP:20210519T073904Z
URL:https://carrerasocr.com/events/medieval-xtreme-race-polop/
SUMMARY:Medieval Xtreme Race Polop
DESCRIPTION:\n\nEnlace a la web de la  Inscripción\n\n
CATEGORIES:Medieval Xtreme Race,OCR
LOCATION:Polop\, Polop\, Polop\, España
X-APPLE-STRUCTURED-LOCATION;VALUE=URI;X-ADDRESS=Polop\, Polop\, España;X-A
 PPLE-RADIUS=100;X-TITLE=Polop:geo:0,0
END:VEVENT
BEGIN:VTIMEZONE
TZID:Europe/Madrid
X-LIC-LOCATION:Europe/Madrid
BEGIN:DAYLIGHT
DTSTART:20210328T030000
TZOFFSETFROM:+0100
TZOFFSETTO:+0200
TZNAME:CEST
END:DAYLIGHT
END:VTIMEZONE
END:VCALENDAR