BEGIN:VCALENDAR
VERSION:2.0
PRODID:-//wp-events-plugin.com//7.2.3.1//EN
TZID:Europe/Madrid
X-WR-TIMEZONE:Europe/Madrid
BEGIN:VEVENT
UID:1014@carrerasocr.com
DTSTART;TZID=Europe/Madrid:20261003T090000
DTEND;TZID=Europe/Madrid:20261003T170000
DTSTAMP:20260411T105644Z
URL:https://carrerasocr.com/events/lince-extreme-running-2026/
SUMMARY:Lince Extreme Running 2026
DESCRIPTION:\n\nEnlace a la web de la  Inscripción\n\nRedes sociales\n\n
CATEGORIES:Andalucía,España,Lince Extreme Running,OCR,OCR
 España,Octubre 2026
LOCATION:Punta Humbría\, Punta Humbría\, Punta Humbría\, Huelva\, Andalu
 cía\, España
X-APPLE-STRUCTURED-LOCATION;VALUE=URI;X-ADDRESS=Punta Humbría\, Punta Humb
 ría\, Huelva\, Andalucía\, España;X-APPLE-RADIUS=100;X-TITLE=Punta Humb
 ría:geo:0,0
END:VEVENT
BEGIN:VTIMEZONE
TZID:Europe/Madrid
X-LIC-LOCATION:Europe/Madrid
BEGIN:DAYLIGHT
DTSTART:20260329T030000
TZOFFSETFROM:+0100
TZOFFSETTO:+0200
TZNAME:CEST
END:DAYLIGHT
END:VTIMEZONE
END:VCALENDAR