BEGIN:VCALENDAR
VERSION:2.0
PRODID:-//wp-events-plugin.com//7.2.3.1//EN
TZID:Europe/Madrid
X-WR-TIMEZONE:Europe/Madrid
BEGIN:VEVENT
UID:933@carrerasocr.com
DTSTART;TZID=Europe/Madrid:20260425T090000
DTEND;TZID=Europe/Madrid:20260425T170000
DTSTAMP:20260121T122628Z
URL:https://carrerasocr.com/events/la-batalla-de-las-sardinas-2026/
SUMMARY:La Batalla de las Sardinas 2026
DESCRIPTION:															\n		Enlace a la web de la  InscripciónRedes So
 ciales		\n			
CATEGORIES:Abril 2026,Asturias,España,La batalla de las sardinas,Liga
 Nacional OCRA 2026,OCR,OCR España
LOCATION:Candas\, Candas\, Candas\, Asturias\, Principado de Asturias\, Esp
 aña
X-APPLE-STRUCTURED-LOCATION;VALUE=URI;X-ADDRESS=Candas\, Candas\, Asturias\
 , Principado de Asturias\, España;X-APPLE-RADIUS=100;X-TITLE=Candas:geo:0
 ,0
END:VEVENT
BEGIN:VTIMEZONE
TZID:Europe/Madrid
X-LIC-LOCATION:Europe/Madrid
BEGIN:DAYLIGHT
DTSTART:20260329T030000
TZOFFSETFROM:+0100
TZOFFSETTO:+0200
TZNAME:CEST
END:DAYLIGHT
END:VTIMEZONE
END:VCALENDAR