BEGIN:VCALENDAR
VERSION:2.0
PRODID:-//wp-events-plugin.com//7.2.3.1//EN
TZID:Europe/Madrid
X-WR-TIMEZONE:Europe/Madrid
BEGIN:VEVENT
UID:683@carrerasocr.com
DTSTART;TZID=Europe/Madrid:20250517T090000
DTEND;TZID=Europe/Madrid:20250518T170000
DTSTAMP:20241201T190133Z
URL:https://carrerasocr.com/events/isla-race-2025/
SUMMARY:Isla Race 2025
DESCRIPTION:													\n		Enlace a la web de la  InscripciónRedes soci
 ales		\n			
CATEGORIES:Baleares,España,Isla Race,Mayo 2025,OCR,OCR España
LOCATION:Port Adriano\, Port Adriano\, Port Adriano\, Mallorca\, España
X-APPLE-STRUCTURED-LOCATION;VALUE=URI;X-ADDRESS=Port Adriano\, Port Adriano
 \, Mallorca\, España;X-APPLE-RADIUS=100;X-TITLE=Port Adriano:geo:0,0
END:VEVENT
BEGIN:VTIMEZONE
TZID:Europe/Madrid
X-LIC-LOCATION:Europe/Madrid
BEGIN:DAYLIGHT
DTSTART:20250330T030000
TZOFFSETFROM:+0100
TZOFFSETTO:+0200
TZNAME:CEST
END:DAYLIGHT
END:VTIMEZONE
END:VCALENDAR