BEGIN:VCALENDAR
VERSION:2.0
PRODID:-//wp-events-plugin.com//7.2.3.1//EN
TZID:Europe/Madrid
X-WR-TIMEZONE:Europe/Madrid
BEGIN:VEVENT
UID:1080@carrerasocr.com
DTSTART;TZID=Europe/Madrid:20260613T090000
DTEND;TZID=Europe/Madrid:20260613T170000
DTSTAMP:20260411T112510Z
URL:https://carrerasocr.com/events/isla-colombina-xtreme-2026/
SUMMARY:Isla Colombina Xtreme 2026
DESCRIPTION:															\n		Enlace a la web de la  Inscripción		\n			\
 n					Quieres ayudar a mantener la página?\, reserva tu alojamiento desde
  aqui				\n					\n    \n        Booking.com\n
CATEGORIES:Danger Extreme Fuerteventura,Islas Canarias,Junio 2026,OCR,OCR
 España
LOCATION:La Gomera\, La Gomera\, La Gomera\, La Gomera\, Islas Canarias\, E
 spaña
X-APPLE-STRUCTURED-LOCATION;VALUE=URI;X-ADDRESS=La Gomera\, La Gomera\, La 
 Gomera\, Islas Canarias\, España;X-APPLE-RADIUS=100;X-TITLE=La Gomera:geo
 :0,0
END:VEVENT
BEGIN:VTIMEZONE
TZID:Europe/Madrid
X-LIC-LOCATION:Europe/Madrid
BEGIN:DAYLIGHT
DTSTART:20260329T030000
TZOFFSETFROM:+0100
TZOFFSETTO:+0200
TZNAME:CEST
END:DAYLIGHT
END:VTIMEZONE
END:VCALENDAR