BEGIN:VCALENDAR
VERSION:2.0
PRODID:-//wp-events-plugin.com//7.2.3.1//EN
TZID:Europe/Madrid
X-WR-TIMEZONE:Europe/Madrid
BEGIN:VEVENT
UID:223@carrerasocr.com
DTSTART;TZID=Europe/Madrid:20221029T000000
DTEND;TZID=Europe/Madrid:20221030T000000
DTSTAMP:20220824T140825Z
URL:https://carrerasocr.com/events/infernal-running-haro-2022/
SUMMARY:Infernal Running Haro 2022
DESCRIPTION:/*! elementor - v3.6.7 - 03-07-2022 */\n.elementor-widget-image
 {text-align:center}.elementor-widget-image a{display:inline-block}.element
 or-widget-image a img[src$=".svg"]{width:48px}.elementor-widget-image img{
 vertical-align:middle\;display:inline-block}\n\n\n\nEnlace a la web de la
   Inscripción\n\n/*! elementor - v3.6.7 - 03-07-2022 */\n.elementor-widg
 et-google_maps .elementor-widget-container{overflow:hidden}.elementor-widg
 et-google_maps iframe{height:300px}\n\n\n\n/*! elementor - v3.6.7 - 03-07-
 2022 */\n.elementor-heading-title{padding:0\;margin:0\;line-height:1}.elem
 entor-widget-heading .elementor-heading-title[class*=elementor-size-]>a{co
 lor:inherit\;font-size:inherit\;line-height:inherit}.elementor-widget-head
 ing .elementor-heading-title.elementor-size-small{font-size:15px}.elemento
 r-widget-heading .elementor-heading-title.elementor-size-medium{font-size:
 19px}.elementor-widget-heading .elementor-heading-title.elementor-size-lar
 ge{font-size:29px}.elementor-widget-heading .elementor-heading-title.eleme
 ntor-size-xl{font-size:39px}.elementor-widget-heading .elementor-heading-t
 itle.elementor-size-xxl{font-size:59px}\nQuieres ayudar a mantener la pág
 ina?\, reserva tu alojamiento desde aqui\n\n\nBooking.com\n
CATEGORIES:España,Haro,Infernal Running,La Rioja,OCR,OCR España
LOCATION:Haro\, Haro\, Haro\, La Rioja\, La Rioja\, España
X-APPLE-STRUCTURED-LOCATION;VALUE=URI;X-ADDRESS=Haro\, Haro\, La Rioja\, La
  Rioja\, España;X-APPLE-RADIUS=100;X-TITLE=Haro:geo:0,0
END:VEVENT
BEGIN:VTIMEZONE
TZID:Europe/Madrid
X-LIC-LOCATION:Europe/Madrid
BEGIN:DAYLIGHT
DTSTART:20220327T030000
TZOFFSETFROM:+0100
TZOFFSETTO:+0200
TZNAME:CEST
END:DAYLIGHT
END:VTIMEZONE
END:VCALENDAR