BEGIN:VCALENDAR
VERSION:2.0
PRODID:-//wp-events-plugin.com//7.2.3.1//EN
TZID:Europe/Madrid
X-WR-TIMEZONE:Europe/Madrid
BEGIN:VEVENT
UID:337@carrerasocr.com
DTSTART;TZID=Europe/Madrid:20230401T090000
DTEND;TZID=Europe/Madrid:20230401T170000
DTSTAMP:20230108T184907Z
URL:https://carrerasocr.com/events/iberus-race-2023/
SUMMARY:Iberus Race 2023
DESCRIPTION:														\n		Enlace a la web de la  Inscripción		\n			\n
 			Quieres ayudar a mantener la página?\, reserva tu alojamiento desde aq
 ui		\n			\n    \n        Booking.com\n
CATEGORIES:España,Iberus Race,La Rioja,Liga AOCO 2023,OCR,OCR España
LOCATION:Rincón de Soto\, Rincón de Soto\, Rincón de Soto\, La Rioja\, E
 spaña
X-APPLE-STRUCTURED-LOCATION;VALUE=URI;X-ADDRESS=Rincón de Soto\, Rincón d
 e Soto\, La Rioja\, España;X-APPLE-RADIUS=100;X-TITLE=Rincón de Soto:geo
 :0,0
END:VEVENT
BEGIN:VTIMEZONE
TZID:Europe/Madrid
X-LIC-LOCATION:Europe/Madrid
BEGIN:DAYLIGHT
DTSTART:20230326T030000
TZOFFSETFROM:+0100
TZOFFSETTO:+0200
TZNAME:CEST
END:DAYLIGHT
END:VTIMEZONE
END:VCALENDAR