BEGIN:VCALENDAR
VERSION:2.0
PRODID:-//wp-events-plugin.com//7.2.3.1//EN
TZID:Europe/Madrid
X-WR-TIMEZONE:Europe/Madrid
BEGIN:VEVENT
UID:754@carrerasocr.com
DTSTART;TZID=Europe/Madrid:20250329T090000
DTEND;TZID=Europe/Madrid:20250329T200000
DTSTAMP:20250214T184648Z
URL:https://carrerasocr.com/events/hybrid-race-kgm-2025/
SUMMARY:Hybrid Race KGM 2025
DESCRIPTION:															\n		 Enlace a la web de la  Inscripción		\n		
 	
CATEGORIES:Comunidad Valenciana,España,Fitness,Hybrid Race KGM,Marzo
 2025,OCR,OCR España
LOCATION:Elda\, Elda\, Elda\, Alicante\, Comunidad Valenciana\, España
X-APPLE-STRUCTURED-LOCATION;VALUE=URI;X-ADDRESS=Elda\, Elda\, Alicante\, Co
 munidad Valenciana\, España;X-APPLE-RADIUS=100;X-TITLE=Elda:geo:0,0
END:VEVENT
BEGIN:VTIMEZONE
TZID:Europe/Madrid
X-LIC-LOCATION:Europe/Madrid
BEGIN:STANDARD
DTSTART:20241027T020000
TZOFFSETFROM:+0200
TZOFFSETTO:+0100
TZNAME:CET
END:STANDARD
END:VTIMEZONE
END:VCALENDAR