BEGIN:VCALENDAR
VERSION:2.0
PRODID:-//wp-events-plugin.com//7.2.3.1//EN
TZID:Europe/Madrid
X-WR-TIMEZONE:Europe/Madrid
BEGIN:VEVENT
UID:1090@carrerasocr.com
DTSTART;TZID=Europe/Madrid:20261108T090000
DTEND;TZID=Europe/Madrid:20261108T170000
DTSTAMP:20260411T115117Z
URL:https://carrerasocr.com/events/gollizno-race-2026/
SUMMARY:Gollizno Race 2026
DESCRIPTION:															\n		Enlace a la web de la  Inscripción		\n			
CATEGORIES:Andalucía,España,Liga Sur,Noviembre 2026,OCR,OCR España
LOCATION:Moclin\, Moclin\, Moclin\, Granada\, Andalucia\, España
X-APPLE-STRUCTURED-LOCATION;VALUE=URI;X-ADDRESS=Moclin\, Moclin\, Granada\,
  Andalucia\, España;X-APPLE-RADIUS=100;X-TITLE=Moclin:geo:0,0
END:VEVENT
BEGIN:VTIMEZONE
TZID:Europe/Madrid
X-LIC-LOCATION:Europe/Madrid
BEGIN:STANDARD
DTSTART:20261025T020000
TZOFFSETFROM:+0200
TZOFFSETTO:+0100
TZNAME:CET
END:STANDARD
END:VTIMEZONE
END:VCALENDAR