BEGIN:VCALENDAR
VERSION:2.0
PRODID:-//wp-events-plugin.com//7.2.3.1//EN
TZID:Europe/Madrid
X-WR-TIMEZONE:Europe/Madrid
BEGIN:VEVENT
UID:352@carrerasocr.com
DTSTART;TZID=Europe/Madrid:20230930T090000
DTEND;TZID=Europe/Madrid:20230930T170000
DTSTAMP:20230108T192341Z
URL:https://carrerasocr.com/events/gladiators-day-artajona-2023/
SUMMARY:Gladiators Day Artajona 2023
DESCRIPTION:														\n																										\n		Enlace a la web d
 e la  Inscripción		\n			\n			Quieres ayudar a mantener la página?\, res
 erva tu alojamiento desde aqui		\n			\n    \n        Booking.com\n
CATEGORIES:Artajona,España,Gladiators Day,Liga Nacional
 OCR,Navarra,OCR,OCR España,OCR Series 2023
LOCATION:Artajona\, Artajona\, Artajona\, Navarra\, Navarra\, España
X-APPLE-STRUCTURED-LOCATION;VALUE=URI;X-ADDRESS=Artajona\, Artajona\, Navar
 ra\, Navarra\, España;X-APPLE-RADIUS=100;X-TITLE=Artajona:geo:0,0
END:VEVENT
BEGIN:VTIMEZONE
TZID:Europe/Madrid
X-LIC-LOCATION:Europe/Madrid
BEGIN:DAYLIGHT
DTSTART:20230326T030000
TZOFFSETFROM:+0100
TZOFFSETTO:+0200
TZNAME:CEST
END:DAYLIGHT
END:VTIMEZONE
END:VCALENDAR