BEGIN:VCALENDAR
VERSION:2.0
PRODID:-//wp-events-plugin.com//7.2.3.1//EN
TZID:Europe/Madrid
X-WR-TIMEZONE:Europe/Madrid
BEGIN:VEVENT
UID:978@carrerasocr.com
DTSTART;TZID=Europe/Madrid:20260712T090000
DTEND;TZID=Europe/Madrid:20260712T200000
DTSTAMP:20251221T172128Z
URL:https://carrerasocr.com/events/games-series-lugo-2026/
SUMMARY:Games Series Lugo 2026
DESCRIPTION:															\n		 Enlace a la web de la  Inscripción		\n		
 	
CATEGORIES:España,Fitness,Galicia,Hybrid,Julio 2026,OCR,OCR España
LOCATION:Lugo\, Lugo\, Lugo\, Lugo\, Galicia\, España
X-APPLE-STRUCTURED-LOCATION;VALUE=URI;X-ADDRESS=Lugo\, Lugo\, Lugo\, Galici
 a\, España;X-APPLE-RADIUS=100;X-TITLE=Lugo:geo:0,0
END:VEVENT
BEGIN:VTIMEZONE
TZID:Europe/Madrid
X-LIC-LOCATION:Europe/Madrid
BEGIN:DAYLIGHT
DTSTART:20260329T030000
TZOFFSETFROM:+0100
TZOFFSETTO:+0200
TZNAME:CEST
END:DAYLIGHT
END:VTIMEZONE
END:VCALENDAR