BEGIN:VCALENDAR
VERSION:2.0
PRODID:-//wp-events-plugin.com//7.2.3.1//EN
TZID:Europe/Madrid
X-WR-TIMEZONE:Europe/Madrid
BEGIN:VEVENT
UID:976@carrerasocr.com
DTSTART;TZID=Europe/Madrid:20260927T090000
DTEND;TZID=Europe/Madrid:20260927T200000
DTSTAMP:20251221T172205Z
URL:https://carrerasocr.com/events/games-series-a-estrada-2026/
SUMMARY:Games Series A Estrada 2026
DESCRIPTION:															\n		 Enlace a la web de la  Inscripción		\n		
 	
CATEGORIES:España,Fitness,Galicia,Games Series,Hybrid,OCR,OCR
 España,Septiembre 2026
LOCATION:A Estrada\, A Estrada\, A Estrada\, Pontevedra\, Galicia\, España
X-APPLE-STRUCTURED-LOCATION;VALUE=URI;X-ADDRESS=A Estrada\, A Estrada\, Pon
 tevedra\, Galicia\, España;X-APPLE-RADIUS=100;X-TITLE=A Estrada:geo:0,0
END:VEVENT
BEGIN:VTIMEZONE
TZID:Europe/Madrid
X-LIC-LOCATION:Europe/Madrid
BEGIN:DAYLIGHT
DTSTART:20260329T030000
TZOFFSETFROM:+0100
TZOFFSETTO:+0200
TZNAME:CEST
END:DAYLIGHT
END:VTIMEZONE
END:VCALENDAR