BEGIN:VCALENDAR
VERSION:2.0
PRODID:-//wp-events-plugin.com//7.2.3.1//EN
TZID:Europe/Madrid
X-WR-TIMEZONE:Europe/Madrid
BEGIN:VEVENT
UID:961@carrerasocr.com
DTSTART;TZID=Europe/Madrid:20260912T090000
DTEND;TZID=Europe/Madrid:20260912T170000
DTSTAMP:20251214T185117Z
URL:https://carrerasocr.com/events/fura-world-santa-cruz-de-la-palma-2026/
SUMMARY:Fura World Santa Cruz de La Palma 2026
DESCRIPTION:															\n		 Enlace a la web de la  Inscripción		\n		
 	
CATEGORIES:España,Fura World,Hybrid,Islas Canarias,OCR,OCR
 España,Septiembre 2026
LOCATION:Santa Cruz de La Palma\, Santa Cruz de La Palma\, Santa Cruz de La
  Palma\, Santa Cruz de Tenerife\, Islas Canarias\, España
X-APPLE-STRUCTURED-LOCATION;VALUE=URI;X-ADDRESS=Santa Cruz de La Palma\, Sa
 nta Cruz de La Palma\, Santa Cruz de Tenerife\, Islas Canarias\, España;X
 -APPLE-RADIUS=100;X-TITLE=Santa Cruz de La Palma:geo:0,0
END:VEVENT
BEGIN:VTIMEZONE
TZID:Europe/Madrid
X-LIC-LOCATION:Europe/Madrid
BEGIN:DAYLIGHT
DTSTART:20260329T030000
TZOFFSETFROM:+0100
TZOFFSETTO:+0200
TZNAME:CEST
END:DAYLIGHT
END:VTIMEZONE
END:VCALENDAR