BEGIN:VCALENDAR
VERSION:2.0
PRODID:-//wp-events-plugin.com//7.2.3.1//EN
TZID:Europe/Madrid
X-WR-TIMEZONE:Europe/Madrid
BEGIN:VEVENT
UID:37@carrerasocr.com
DTSTART;TZID=Europe/Madrid:20211002T090000
DTEND;TZID=Europe/Madrid:20211002T160000
DTSTAMP:20210519T080432Z
URL:https://carrerasocr.com/events/farinato-race-madrid/
SUMMARY:Farinato Race Madrid
DESCRIPTION:\n\nEnlace a la web de la  Inscripción\n\n
CATEGORIES:OCR
LOCATION:Universidad Alfonso X El Sabio\, Universidad Privada Alfonso X El 
 Sabio - UAX (Villanueva de la Cañada)\, Avenida Universidad\, 1 \, Villa
 nueva de la Cañada\, Madrid\, 28691\, España
X-APPLE-STRUCTURED-LOCATION;VALUE=URI;X-ADDRESS=Universidad Privada Alfonso
  X El Sabio - UAX (Villanueva de la Cañada)\, Avenida Universidad\, 1 \,
  Villanueva de la Cañada\, Madrid\, 28691\, España;X-APPLE-RADIUS=100;X-
 TITLE=Universidad Alfonso X El Sabio:geo:0,0
END:VEVENT
BEGIN:VTIMEZONE
TZID:Europe/Madrid
X-LIC-LOCATION:Europe/Madrid
BEGIN:DAYLIGHT
DTSTART:20210328T030000
TZOFFSETFROM:+0100
TZOFFSETTO:+0200
TZNAME:CEST
END:DAYLIGHT
END:VTIMEZONE
END:VCALENDAR