BEGIN:VCALENDAR
VERSION:2.0
PRODID:-//wp-events-plugin.com//7.2.3.1//EN
TZID:Europe/Madrid
X-WR-TIMEZONE:Europe/Madrid
BEGIN:VEVENT
UID:1063@carrerasocr.com
DTSTART;TZID=Europe/Madrid:20260926T090000
DTEND;TZID=Europe/Madrid:20260926T170000
DTSTAMP:20260226T203319Z
URL:https://carrerasocr.com/events/farinato-hibrid-race-sevilla-2026/
SUMMARY:Farinato Hibrid Race Sevilla 2026
DESCRIPTION:															\n		Enlace a la web de la  InscripciónRedes so
 ciales		\n			
CATEGORIES:Andalucía,España,Farinato,Farinato Hibrid
 Race,Fitness,Hybrid,OCR,OCR España,Septiembre 2026
LOCATION:Sevilla\, Sevilla\, Sevilla\, Andalucía\, España
X-APPLE-STRUCTURED-LOCATION;VALUE=URI;X-ADDRESS=Sevilla\, Sevilla\, Andaluc
 ía\, España;X-APPLE-RADIUS=100;X-TITLE=Sevilla:geo:0,0
END:VEVENT
BEGIN:VTIMEZONE
TZID:Europe/Madrid
X-LIC-LOCATION:Europe/Madrid
BEGIN:DAYLIGHT
DTSTART:20260329T030000
TZOFFSETFROM:+0100
TZOFFSETTO:+0200
TZNAME:CEST
END:DAYLIGHT
END:VTIMEZONE
END:VCALENDAR