BEGIN:VCALENDAR
VERSION:2.0
PRODID:-//wp-events-plugin.com//7.2.3.1//EN
TZID:Europe/Madrid
X-WR-TIMEZONE:Europe/Madrid
BEGIN:VEVENT
UID:8@carrerasocr.com
DTSTART;TZID=Europe/Madrid:20211106T090000
DTEND;TZID=Europe/Madrid:20211106T140000
DTSTAMP:20210515T144923Z
URL:https://carrerasocr.com/events/extreme-challenge-torre-sol/
SUMMARY:Extreme Challenge Torre del sol
DESCRIPTION:															\n		Enlace a la web de la  Inscripción		\n			
CATEGORIES:OCR,XChallenge
LOCATION:Camping Torre del sol\,  N-340\, 1136\,\, Mont-roig del Camp\, Tar
 ragona\, 43300\, España
X-APPLE-STRUCTURED-LOCATION;VALUE=URI;X-ADDRESS= N-340\, 1136\,\, Mont-roig
  del Camp\, Tarragona\, 43300\, España;X-APPLE-RADIUS=100;X-TITLE=Camping
  Torre del sol:geo:0,0
END:VEVENT
BEGIN:VTIMEZONE
TZID:Europe/Madrid
X-LIC-LOCATION:Europe/Madrid
BEGIN:STANDARD
DTSTART:20211031T020000
TZOFFSETFROM:+0200
TZOFFSETTO:+0100
TZNAME:CET
END:STANDARD
END:VTIMEZONE
END:VCALENDAR