BEGIN:VCALENDAR
VERSION:2.0
PRODID:-//wp-events-plugin.com//7.2.3.1//EN
TZID:Europe/Madrid
X-WR-TIMEZONE:Europe/Madrid
BEGIN:VEVENT
UID:1058@carrerasocr.com
DTSTART;TZID=Europe/Madrid:20260322T090000
DTEND;TZID=Europe/Madrid:20260322T200000
DTSTAMP:20260226T201956Z
URL:https://carrerasocr.com/events/endurance-hybrid-race-2026/
SUMMARY:Endurance Hybrid Race 2026
DESCRIPTION:															\n		 Enlace a la web de la  InscripciónRedes 
 sociales		\n			
CATEGORIES:España,Fitness,Hybrid,Islas Canarias,Marzo 2026,OCR,OCR
 España
LOCATION:Villa de Tegueste\, Villa de Tegueste\, Villa de Tegueste\, Santa 
 Cruz de Tenerife\, Islas Canarias\, España
X-APPLE-STRUCTURED-LOCATION;VALUE=URI;X-ADDRESS=Villa de Tegueste\, Villa d
 e Tegueste\, Santa Cruz de Tenerife\, Islas Canarias\, España;X-APPLE-RAD
 IUS=100;X-TITLE=Villa de Tegueste:geo:0,0
END:VEVENT
BEGIN:VTIMEZONE
TZID:Europe/Madrid
X-LIC-LOCATION:Europe/Madrid
BEGIN:STANDARD
DTSTART:20251026T020000
TZOFFSETFROM:+0200
TZOFFSETTO:+0100
TZNAME:CET
END:STANDARD
END:VTIMEZONE
END:VCALENDAR