BEGIN:VCALENDAR
VERSION:2.0
PRODID:-//wp-events-plugin.com//7.2.3.1//EN
TZID:Europe/Madrid
X-WR-TIMEZONE:Europe/Madrid
BEGIN:VEVENT
UID:1003@carrerasocr.com
DTSTART;TZID=Europe/Madrid:20260510T090000
DTEND;TZID=Europe/Madrid:20260510T170000
DTSTAMP:20260119T182829Z
URL:https://carrerasocr.com/events/edelweiss-race-2026/
SUMMARY:Edelweiss Race 2026
DESCRIPTION:															\n		Enlace a la web de la  Inscripción		\n			
CATEGORIES:Aragón,Edelweiss Race,España,Mayo 2026,OCR,OCR Aragón,OCR
 España
LOCATION:Sabiñánigo\, Sabiñánigo\, Sabiñánigo\, Huesca\, Aragón\, Es
 paña
X-APPLE-STRUCTURED-LOCATION;VALUE=URI;X-ADDRESS=Sabiñánigo\, Sabiñánigo
 \, Huesca\, Aragón\, España;X-APPLE-RADIUS=100;X-TITLE=Sabiñánigo:geo:
 0,0
END:VEVENT
BEGIN:VTIMEZONE
TZID:Europe/Madrid
X-LIC-LOCATION:Europe/Madrid
BEGIN:DAYLIGHT
DTSTART:20260329T030000
TZOFFSETFROM:+0100
TZOFFSETTO:+0200
TZNAME:CEST
END:DAYLIGHT
END:VTIMEZONE
END:VCALENDAR