BEGIN:VCALENDAR
VERSION:2.0
PRODID:-//wp-events-plugin.com//7.2.3.1//EN
TZID:Europe/Madrid
X-WR-TIMEZONE:Europe/Madrid
BEGIN:VEVENT
UID:913@carrerasocr.com
DTSTART;TZID=Europe/Madrid:20261025T090000
DTEND;TZID=Europe/Madrid:20261025T170000
DTSTAMP:20251109T165438Z
URL:https://carrerasocr.com/events/desafio-guerreros-malaga-2026/
SUMMARY:Desafío Guerreros Málaga 2026
DESCRIPTION:															\n		Enlace a la web de la  InscripciónRedes so
 ciales		\n			
CATEGORIES:Andalucía,Desafío Guerreros,España,OCR,OCR España,Octubre
 2026
LOCATION:Málaga\, Málaga\, Málaga\, Málaga\, Andalucia\, España
X-APPLE-STRUCTURED-LOCATION;VALUE=URI;X-ADDRESS=Málaga\, Málaga\, Málaga
 \, Andalucia\, España;X-APPLE-RADIUS=100;X-TITLE=Málaga:geo:0,0
END:VEVENT
BEGIN:VTIMEZONE
TZID:Europe/Madrid
X-LIC-LOCATION:Europe/Madrid
BEGIN:STANDARD
DTSTART:20261025T020000
TZOFFSETFROM:+0200
TZOFFSETTO:+0100
TZNAME:CET
END:STANDARD
END:VTIMEZONE
END:VCALENDAR