BEGIN:VCALENDAR
VERSION:2.0
PRODID:-//wp-events-plugin.com//7.2.3.1//EN
TZID:Europe/Madrid
X-WR-TIMEZONE:Europe/Madrid
BEGIN:VEVENT
UID:189@carrerasocr.com
DTSTART;TZID=Europe/Madrid:20220619T090000
DTEND;TZID=Europe/Madrid:20220619T170000
DTSTAMP:20220327T162308Z
URL:https://carrerasocr.com/events/desafio-centenario-acorazado-2022/
SUMMARY:Desafío Centenario Acorazado 2022
DESCRIPTION:															\n		Enlace a la web de la  Inscripción		\n			\
 n			Quieres ayudar a mantener la página?\, reserva tu alojamiento desde a
 qui		\n			\n    \n        Booking.com\n
CATEGORIES:Desafío Centenario Acorazado,OCR
LOCATION:Base militar El Goloso\, Brigada “Guadarrama” XII\, Ctra. Madr
 id-Colmenar (M-607)\, km. 17\,5\, 28770 Madrid\, Ctra. Madrid-Colmenar (M-
 607)\, km. 17\,5\, 28770 Madrid\, Madrid\, Madrid\, España
X-APPLE-STRUCTURED-LOCATION;VALUE=URI;X-ADDRESS=Ctra. Madrid-Colmenar (M-60
 7)\, km. 17\,5\, 28770 Madrid\, Ctra. Madrid-Colmenar (M-607)\, km. 17\,5\
 , 28770 Madrid\, Madrid\, Madrid\, España;X-APPLE-RADIUS=100;X-TITLE=Base
  militar El Goloso\, Brigada “Guadarrama” XII:geo:0,0
END:VEVENT
BEGIN:VTIMEZONE
TZID:Europe/Madrid
X-LIC-LOCATION:Europe/Madrid
BEGIN:DAYLIGHT
DTSTART:20220327T030000
TZOFFSETFROM:+0100
TZOFFSETTO:+0200
TZNAME:CEST
END:DAYLIGHT
END:VTIMEZONE
END:VCALENDAR