BEGIN:VCALENDAR
VERSION:2.0
PRODID:-//wp-events-plugin.com//7.2.3.1//EN
TZID:Europe/Madrid
X-WR-TIMEZONE:Europe/Madrid
BEGIN:VEVENT
UID:511@carrerasocr.com
DTSTART;TZID=Europe/Madrid:20241006T090000
DTEND;TZID=Europe/Madrid:20241006T170000
DTSTAMP:20240507T141436Z
URL:https://carrerasocr.com/events/desafio-boot-camp-vigo-2024/
SUMMARY:Desafío Boot Camp Vigo 2024
DESCRIPTION:														\n		Enlace a la web de la  Inscripción		\n			\n
 			Quieres ayudar a mantener la página?\, reserva tu alojamiento desde aq
 ui		\n  &nbsp\;
CATEGORIES:AOCO,Desafio BOOT Camp,España,Galicia,Liga AOCO 2024,OCR,OCR
 España,Octubre 2024
LOCATION:Vigo\, Vigo\, Vigo\, España
X-APPLE-STRUCTURED-LOCATION;VALUE=URI;X-ADDRESS=Vigo\, Vigo\, España;X-APP
 LE-RADIUS=100;X-TITLE=Vigo:geo:0,0
END:VEVENT
BEGIN:VTIMEZONE
TZID:Europe/Madrid
X-LIC-LOCATION:Europe/Madrid
BEGIN:DAYLIGHT
DTSTART:20240331T030000
TZOFFSETFROM:+0100
TZOFFSETTO:+0200
TZNAME:CEST
END:DAYLIGHT
END:VTIMEZONE
END:VCALENDAR