BEGIN:VCALENDAR
VERSION:2.0
PRODID:-//wp-events-plugin.com//7.2.3.1//EN
TZID:Europe/Madrid
X-WR-TIMEZONE:Europe/Madrid
BEGIN:VEVENT
UID:1000@carrerasocr.com
DTSTART;TZID=Europe/Madrid:20260627T090000
DTEND;TZID=Europe/Madrid:20260627T200000
DTSTAMP:20251228T170721Z
URL:https://carrerasocr.com/events/deka-vigo-2026/
SUMMARY:Deka Vigo 2026
DESCRIPTION:															\n		Redes socialesEnlace a la web de la  Inscri
 pción		\n			
CATEGORIES:Deka,Deka
 Strong,Dekafit,Dekamile,España,Fitness,Galicia,Hybrid,Junio 2026,OCR,OCR
 España,Spartan
LOCATION:Vigo\, Vigo\, Vigo\, España
X-APPLE-STRUCTURED-LOCATION;VALUE=URI;X-ADDRESS=Vigo\, Vigo\, España;X-APP
 LE-RADIUS=100;X-TITLE=Vigo:geo:0,0
END:VEVENT
BEGIN:VTIMEZONE
TZID:Europe/Madrid
X-LIC-LOCATION:Europe/Madrid
BEGIN:DAYLIGHT
DTSTART:20260329T030000
TZOFFSETFROM:+0100
TZOFFSETTO:+0200
TZNAME:CEST
END:DAYLIGHT
END:VTIMEZONE
END:VCALENDAR