BEGIN:VCALENDAR
VERSION:2.0
PRODID:-//wp-events-plugin.com//7.2.3.1//EN
TZID:Europe/Madrid
X-WR-TIMEZONE:Europe/Madrid
BEGIN:VEVENT
UID:957@carrerasocr.com
DTSTART;TZID=Europe/Madrid:20261121T090000
DTEND;TZID=Europe/Madrid:20261122T200000
DTSTAMP:20251207T191541Z
URL:https://carrerasocr.com/events/deka-tenerife-2026/
SUMMARY:Deka Tenerife 2026
DESCRIPTION:															\n		Redes socialesEnlace a la web de la  Inscri
 pción		\n			
CATEGORIES:Deka,Deka Strong,Dekafit,Dekamile,España,Fitness,Hybrid,Islas
 Canarias,Noviembre 2026,OCR,OCR España,Spartan,Tenerife
LOCATION:Tenerife\, Tenerife\, Tenerife\, Tenerife\, Islas Canarias\, Espa
 ña
X-APPLE-STRUCTURED-LOCATION;VALUE=URI;X-ADDRESS=Tenerife\, Tenerife\, Tener
 ife\, Islas Canarias\, España;X-APPLE-RADIUS=100;X-TITLE=Tenerife:geo:0,0
END:VEVENT
BEGIN:VTIMEZONE
TZID:Europe/Madrid
X-LIC-LOCATION:Europe/Madrid
BEGIN:STANDARD
DTSTART:20261025T020000
TZOFFSETFROM:+0200
TZOFFSETTO:+0100
TZNAME:CET
END:STANDARD
END:VTIMEZONE
END:VCALENDAR