BEGIN:VCALENDAR
VERSION:2.0
PRODID:-//wp-events-plugin.com//7.2.3.1//EN
TZID:Europe/Madrid
X-WR-TIMEZONE:Europe/Madrid
BEGIN:VEVENT
UID:1001@carrerasocr.com
DTSTART;TZID=Europe/Madrid:20261031T090000
DTEND;TZID=Europe/Madrid:20261031T200000
DTSTAMP:20251228T170823Z
URL:https://carrerasocr.com/events/deka-alicante-2026/
SUMMARY:Deka Alicante 2026
DESCRIPTION:															\n		Redes socialesEnlace a la web de la  Inscri
 pción		\n			
CATEGORIES:Comunidad Valenciana,Deka,Deka
 Strong,Dekafit,Dekamile,España,Fitness,Hybrid,OCR,OCR España,Octubre
 2026,Spartan
END:VEVENT
BEGIN:VTIMEZONE
TZID:Europe/Madrid
X-LIC-LOCATION:Europe/Madrid
BEGIN:STANDARD
DTSTART:20261025T020000
TZOFFSETFROM:+0200
TZOFFSETTO:+0100
TZNAME:CET
END:STANDARD
END:VTIMEZONE
END:VCALENDAR