BEGIN:VCALENDAR
VERSION:2.0
PRODID:-//wp-events-plugin.com//7.2.3.1//EN
TZID:Europe/Madrid
X-WR-TIMEZONE:Europe/Madrid
BEGIN:VEVENT
UID:1074@carrerasocr.com
DTSTART;TZID=Europe/Madrid:20260626T090000
DTEND;TZID=Europe/Madrid:20260626T200000
DTSTAMP:20260405T174203Z
URL:https://carrerasocr.com/events/daurada-hybrid-race-2026/
SUMMARY:Daurada Hybrid Race 2026
DESCRIPTION:															\n		Enlace a la web de la  Inscripción		\n			
CATEGORIES:Cataluña,Daurada Hybrid Race,España,Fitness,Hybrid,Junio
 2026,OCR,OCR España
LOCATION:Cambrils\, Cambrils\, Cambrils\, Tarragona\, Cataluña\, España
X-APPLE-STRUCTURED-LOCATION;VALUE=URI;X-ADDRESS=Cambrils\, Cambrils\, Tarra
 gona\, Cataluña\, España;X-APPLE-RADIUS=100;X-TITLE=Cambrils:geo:0,0
END:VEVENT
BEGIN:VTIMEZONE
TZID:Europe/Madrid
X-LIC-LOCATION:Europe/Madrid
BEGIN:DAYLIGHT
DTSTART:20260329T030000
TZOFFSETFROM:+0100
TZOFFSETTO:+0200
TZNAME:CEST
END:DAYLIGHT
END:VTIMEZONE
END:VCALENDAR