BEGIN:VCALENDAR
VERSION:2.0
PRODID:-//wp-events-plugin.com//7.2.3.1//EN
TZID:Europe/Madrid
X-WR-TIMEZONE:Europe/Madrid
BEGIN:VEVENT
UID:963@carrerasocr.com
DTSTART;TZID=Europe/Madrid:20260801T090000
DTEND;TZID=Europe/Madrid:20260801T170000
DTSTAMP:20251214T190342Z
URL:https://carrerasocr.com/events/danger-extreme-2026/
SUMMARY:Danger Extreme 2026
DESCRIPTION:															\n		Enlace a la web de la  InscripciónRedes So
 ciales		\n			
CATEGORIES:Agosto 2026,Danger Extreme Fuerteventura,Islas Canarias,Liga
 OCR Canaria,OCR,OCR España
LOCATION:Antigua\, Antigua\, Antigua\, Fuerteventura\, Islas Canarias\, Esp
 aña
X-APPLE-STRUCTURED-LOCATION;VALUE=URI;X-ADDRESS=Antigua\, Antigua\, Fuertev
 entura\, Islas Canarias\, España;X-APPLE-RADIUS=100;X-TITLE=Antigua:geo:0
 ,0
END:VEVENT
BEGIN:VTIMEZONE
TZID:Europe/Madrid
X-LIC-LOCATION:Europe/Madrid
BEGIN:DAYLIGHT
DTSTART:20260329T030000
TZOFFSETFROM:+0100
TZOFFSETTO:+0200
TZNAME:CEST
END:DAYLIGHT
END:VTIMEZONE
END:VCALENDAR