BEGIN:VCALENDAR
VERSION:2.0
PRODID:-//wp-events-plugin.com//7.2.3.1//EN
TZID:Europe/Madrid
X-WR-TIMEZONE:Europe/Madrid
BEGIN:VEVENT
UID:1009@carrerasocr.com
DTSTART;TZID=Europe/Madrid:20260719T090000
DTEND;TZID=Europe/Madrid:20260719T170000
DTSTAMP:20260119T185708Z
URL:https://carrerasocr.com/events/carrera-del-barro-2026/
SUMMARY:Carrera del barro 2026
DESCRIPTION:															\n		Enlace a la web de la  Inscripción		\n			
CATEGORIES:Andalucía,Carrera del Barro,Julio 2026,OCR,OCR España
LOCATION:La barca de Florida\, La barca de Florida\, La barca de Florida\, 
 Cádiz\, Andalucia\, España
X-APPLE-STRUCTURED-LOCATION;VALUE=URI;X-ADDRESS=La barca de Florida\, La ba
 rca de Florida\, Cádiz\, Andalucia\, España;X-APPLE-RADIUS=100;X-TITLE=L
 a barca de Florida:geo:0,0
END:VEVENT
BEGIN:VTIMEZONE
TZID:Europe/Madrid
X-LIC-LOCATION:Europe/Madrid
BEGIN:DAYLIGHT
DTSTART:20260329T030000
TZOFFSETFROM:+0100
TZOFFSETTO:+0200
TZNAME:CEST
END:DAYLIGHT
END:VTIMEZONE
END:VCALENDAR