BEGIN:VCALENDAR
VERSION:2.0
PRODID:-//wp-events-plugin.com//7.2.3.1//EN
TZID:Europe/Madrid
X-WR-TIMEZONE:Europe/Madrid
BEGIN:VEVENT
UID:694@carrerasocr.com
DTSTART;TZID=Europe/Madrid:20250712T090000
DTEND;TZID=Europe/Madrid:20250712T170000
DTSTAMP:20241215T180706Z
URL:https://carrerasocr.com/events/cantabrian-race-colindres-2025/
SUMMARY:Cantabrian Race Summer 2025
DESCRIPTION:													\n		Enlace a la web de la  InscripciónRedes Soci
 ales		\n			
CATEGORIES:Cantabría,Cantabrian Race,España,Julio 2025,OCR,OCR España
LOCATION:Colindres\, Colindres\, Colindres\, Cantabria\, España
X-APPLE-STRUCTURED-LOCATION;VALUE=URI;X-ADDRESS=Colindres\, Colindres\, Can
 tabria\, España;X-APPLE-RADIUS=100;X-TITLE=Colindres:geo:0,0
END:VEVENT
BEGIN:VTIMEZONE
TZID:Europe/Madrid
X-LIC-LOCATION:Europe/Madrid
BEGIN:DAYLIGHT
DTSTART:20250330T030000
TZOFFSETFROM:+0100
TZOFFSETTO:+0200
TZNAME:CEST
END:DAYLIGHT
END:VTIMEZONE
END:VCALENDAR