BEGIN:VCALENDAR
VERSION:2.0
PRODID:-//wp-events-plugin.com//7.2.3.1//EN
TZID:Europe/Madrid
X-WR-TIMEZONE:Europe/Madrid
BEGIN:VEVENT
UID:1071@carrerasocr.com
DTSTART;TZID=Europe/Madrid:20260523T170000
DTEND;TZID=Europe/Madrid:20260523T200000
DTSTAMP:20260405T173418Z
URL:https://carrerasocr.com/events/calvarian-race-2026/
SUMMARY:Calvarian Race 2026
DESCRIPTION:															\n		Enlace a la web de la  InscripciónRedes so
 ciales		\n			
CATEGORIES:Aragón,Calvarian Race,España,Mayo 2026,OCR,OCR España
LOCATION:Alcorisa\, Alcorisa\, Alcorisa\, Teruel\, Aragón\, España
X-APPLE-STRUCTURED-LOCATION;VALUE=URI;X-ADDRESS=Alcorisa\, Alcorisa\, Terue
 l\, Aragón\, España;X-APPLE-RADIUS=100;X-TITLE=Alcorisa:geo:0,0
END:VEVENT
BEGIN:VTIMEZONE
TZID:Europe/Madrid
X-LIC-LOCATION:Europe/Madrid
BEGIN:DAYLIGHT
DTSTART:20260329T030000
TZOFFSETFROM:+0100
TZOFFSETTO:+0200
TZNAME:CEST
END:DAYLIGHT
END:VTIMEZONE
END:VCALENDAR