BEGIN:VCALENDAR
VERSION:2.0
PRODID:-//wp-events-plugin.com//7.2.3.1//EN
TZID:Europe/Madrid
X-WR-TIMEZONE:Europe/Madrid
BEGIN:VEVENT
UID:109@carrerasocr.com
DTSTART;TZID=Europe/Madrid:20220501T090000
DTEND;TZID=Europe/Madrid:20220501T150000
DTSTAMP:20220104T150555Z
URL:https://carrerasocr.com/events/bomberos-race-vigo-2022/
SUMMARY:Bomberos Race Vigo 2022
DESCRIPTION:															\n		Enlace a la web de la  Inscripción		\n			\
 n			Quieres ayudar a mantener la página?\, reserva tu alojamiento desde a
 qui		\n		 [bdotcom_bm bannerid="2335"]
CATEGORIES:Bomberos Race Vigo
LOCATION:Vigo\, Vigo\, Vigo\, España
X-APPLE-STRUCTURED-LOCATION;VALUE=URI;X-ADDRESS=Vigo\, Vigo\, España;X-APP
 LE-RADIUS=100;X-TITLE=Vigo:geo:0,0
END:VEVENT
BEGIN:VTIMEZONE
TZID:Europe/Madrid
X-LIC-LOCATION:Europe/Madrid
BEGIN:DAYLIGHT
DTSTART:20220327T030000
TZOFFSETFROM:+0100
TZOFFSETTO:+0200
TZNAME:CEST
END:DAYLIGHT
END:VTIMEZONE
END:VCALENDAR