BEGIN:VCALENDAR
VERSION:2.0
PRODID:-//wp-events-plugin.com//7.2.3.1//EN
TZID:Europe/Madrid
X-WR-TIMEZONE:Europe/Madrid
BEGIN:VEVENT
UID:204@carrerasocr.com
DTSTART;TZID=Europe/Madrid:20220924T090000
DTEND;TZID=Europe/Madrid:20220924T170000
DTSTAMP:20220824T104814Z
URL:https://carrerasocr.com/events/badajoz-race-medellin/
SUMMARY:Badajoz Race Medellín
DESCRIPTION:\n\nEnlace a la web de la  Inscripción\n\n\nQuieres ayudar a 
 mantener la página?\, reserva tu alojamiento desde aqui\n\n\nBooking.com\
 n
CATEGORIES:Badajoz Race,España,Extremadura,OCR,OCR España
LOCATION:Medellín\, Medellín\, Medellín\, Badajoz\, Extremadura\, Españ
 a
X-APPLE-STRUCTURED-LOCATION;VALUE=URI;X-ADDRESS=Medellín\, Medellín\, Bad
 ajoz\, Extremadura\, España;X-APPLE-RADIUS=100;X-TITLE=Medellín:geo:0,0
END:VEVENT
BEGIN:VTIMEZONE
TZID:Europe/Madrid
X-LIC-LOCATION:Europe/Madrid
BEGIN:DAYLIGHT
DTSTART:20220327T030000
TZOFFSETFROM:+0100
TZOFFSETTO:+0200
TZNAME:CEST
END:DAYLIGHT
END:VTIMEZONE
END:VCALENDAR