BEGIN:VCALENDAR
VERSION:2.0
PRODID:-//wp-events-plugin.com//7.2.3.1//EN
TZID:Europe/Madrid
X-WR-TIMEZONE:Europe/Madrid
BEGIN:VEVENT
UID:974@carrerasocr.com
DTSTART;TZID=Europe/Madrid:20260919T090000
DTEND;TZID=Europe/Madrid:20260919T170000
DTSTAMP:20260121T095938Z
URL:https://carrerasocr.com/events/atlantis-race-2026/
SUMMARY:Atlantis Race 2026
DESCRIPTION:															\n		 Enlace a la web de la  Inscripción		\n		
 	
CATEGORIES:España,Galicia,Liga AOCO,Liga AOCO 2026,North Finals,OCR,OCR
 España,Septiembre 2026
LOCATION:Razo\, Razo\, Carballo\, Razo\, Carballo\, La Coruña\, Galicia\, 
 España
X-APPLE-STRUCTURED-LOCATION;VALUE=URI;X-ADDRESS=Razo\, Carballo\, Razo\, Ca
 rballo\, La Coruña\, Galicia\, España;X-APPLE-RADIUS=100;X-TITLE=Razo:ge
 o:0,0
END:VEVENT
BEGIN:VTIMEZONE
TZID:Europe/Madrid
X-LIC-LOCATION:Europe/Madrid
BEGIN:DAYLIGHT
DTSTART:20260329T030000
TZOFFSETFROM:+0100
TZOFFSETTO:+0200
TZNAME:CEST
END:DAYLIGHT
END:VTIMEZONE
END:VCALENDAR