BEGIN:VCALENDAR
VERSION:2.0
PRODID:-//wp-events-plugin.com//7.2.3.1//EN
TZID:Europe/Madrid
X-WR-TIMEZONE:Europe/Madrid
BEGIN:VEVENT
UID:905@carrerasocr.com
DTSTART;TZID=Europe/Madrid:20260315T090000
DTEND;TZID=Europe/Madrid:20260315T170000
DTSTAMP:20251102T174700Z
URL:https://carrerasocr.com/events/animalada-coripe-race-2026/
SUMMARY:Animalada Coripe Race 2026
DESCRIPTION:\n\nRedes Sociales\n\nEnlace a la web de la  Inscripción\n\n
CATEGORIES:Andalucía,Animalada Coripe Race,España,Marzo 2026,OCR,OCR
 España
LOCATION:Coripe\, Coripe\, Coripe\, Sevilla\, Andalucía\, España
X-APPLE-STRUCTURED-LOCATION;VALUE=URI;X-ADDRESS=Coripe\, Coripe\, Sevilla\,
  Andalucía\, España;X-APPLE-RADIUS=100;X-TITLE=Coripe:geo:0,0
END:VEVENT
BEGIN:VTIMEZONE
TZID:Europe/Madrid
X-LIC-LOCATION:Europe/Madrid
BEGIN:STANDARD
DTSTART:20251026T020000
TZOFFSETFROM:+0200
TZOFFSETTO:+0100
TZNAME:CET
END:STANDARD
END:VTIMEZONE
END:VCALENDAR